BEGIN:VCALENDAR
VERSION:2.0
PRODID:-//Executive Budget Office - ECPv5.10.0//NONSGML v1.0//EN
CALSCALE:GREGORIAN
METHOD:PUBLISH
X-WR-CALNAME:Executive Budget Office
X-ORIGINAL-URL:http://budget.alabama.gov
X-WR-CALDESC:Events for Executive Budget Office
BEGIN:VTIMEZONE
TZID:UTC
BEGIN:STANDARD
TZOFFSETFROM:+0000
TZOFFSETTO:+0000
TZNAME:UTC
DTSTART:20190101T000000
END:STANDARD
END:VTIMEZONE
BEGIN:VEVENT
DTSTART;VALUE=DATE:20191031
DTEND;VALUE=DATE:20191101
DTSTAMP:20211024T080052
CREATED:20190911T194629Z
LAST-MODIFIED:20190911T194629Z
UID:4965-1572480000-1572566399@budget.alabama.gov
SUMMARY:Reporting of Federal Funds are due
DESCRIPTION:Reporting of Federal Funds are due
URL:http://budget.alabama.gov/event/reporting-of-federal-funds-are-due/
END:VEVENT
END:VCALENDAR