BEGIN:VCALENDAR
VERSION:2.0
PRODID:-//Executive Budget Office - ECPv6.15.20//NONSGML v1.0//EN
CALSCALE:GREGORIAN
METHOD:PUBLISH
X-WR-CALNAME:Executive Budget Office
X-ORIGINAL-URL:http://budget.alabama.gov
X-WR-CALDESC:Events for Executive Budget Office
REFRESH-INTERVAL;VALUE=DURATION:PT1H
X-Robots-Tag:noindex
X-PUBLISHED-TTL:PT1H
BEGIN:VTIMEZONE
TZID:UTC
BEGIN:STANDARD
TZOFFSETFROM:+0000
TZOFFSETTO:+0000
TZNAME:UTC
DTSTART:20230101T000000
END:STANDARD
END:VTIMEZONE
BEGIN:VEVENT
DTSTART;VALUE=DATE:20241031
DTEND;VALUE=DATE:20241101
DTSTAMP:20260419T103613
CREATED:20240909T160707Z
LAST-MODIFIED:20240909T160707Z
UID:8298-1730332800-1730419199@budget.alabama.gov
SUMMARY:Federal Receipts and Expenditure reporting is due by 5:00pm
DESCRIPTION:Federal Receipts and Expenditure reporting is due by 5:00pm
URL:http://budget.alabama.gov/event/federal-receipts-and-expenditure-reporting-is-due-by-500pm/
END:VEVENT
BEGIN:VEVENT
DTSTART;VALUE=DATE:20241031
DTEND;VALUE=DATE:20241101
DTSTAMP:20260419T103613
CREATED:20240909T160822Z
LAST-MODIFIED:20240909T160822Z
UID:8300-1730332800-1730419199@budget.alabama.gov
SUMMARY:4th Quarter FY24 QPR Actuals are due by 5:00 pm
DESCRIPTION:4th Quarter FY24 QPR Actuals are due by 5:00 pm
URL:http://budget.alabama.gov/event/4th-quarter-fy24-qpr-actuals-are-due-by-500-pm/
END:VEVENT
END:VCALENDAR