BEGIN:VCALENDAR
VERSION:2.0
PRODID:-//Executive Budget Office - ECPv6.15.20//NONSGML v1.0//EN
CALSCALE:GREGORIAN
METHOD:PUBLISH
X-WR-CALNAME:Executive Budget Office
X-ORIGINAL-URL:https://budget.alabama.gov
X-WR-CALDESC:Events for Executive Budget Office
REFRESH-INTERVAL;VALUE=DURATION:PT1H
X-Robots-Tag:noindex
X-PUBLISHED-TTL:PT1H
BEGIN:VTIMEZONE
TZID:UTC
BEGIN:STANDARD
TZOFFSETFROM:+0000
TZOFFSETTO:+0000
TZNAME:UTC
DTSTART:20190101T000000
END:STANDARD
END:VTIMEZONE
BEGIN:VEVENT
DTSTART;VALUE=DATE:20201030
DTEND;VALUE=DATE:20201031
DTSTAMP:20260422T074609
CREATED:20200908T155639Z
LAST-MODIFIED:20200909T192231Z
UID:6779-1604016000-1604102399@budget.alabama.gov
SUMMARY:**4th Quarter FY2020 QPR submissions are due**
DESCRIPTION:4th Quarter FY2020 QPR submissions are due
URL:https://budget.alabama.gov/event/4th-quarter-fy2020-qpr-submissions-are-due/
END:VEVENT
END:VCALENDAR