BEGIN:VCALENDAR
VERSION:2.0
PRODID:-//Executive Budget Office - ECPv6.15.20//NONSGML v1.0//EN
CALSCALE:GREGORIAN
METHOD:PUBLISH
X-ORIGINAL-URL:https://budget.alabama.gov
X-WR-CALDESC:Events for Executive Budget Office
REFRESH-INTERVAL;VALUE=DURATION:PT1H
X-Robots-Tag:noindex
X-PUBLISHED-TTL:PT1H
BEGIN:VTIMEZONE
TZID:UTC
BEGIN:STANDARD
TZOFFSETFROM:+0000
TZOFFSETTO:+0000
TZNAME:UTC
DTSTART:20200101T000000
END:STANDARD
END:VTIMEZONE
BEGIN:VEVENT
DTSTART;VALUE=DATE:20210129
DTEND;VALUE=DATE:20210130
DTSTAMP:20260422T190259
CREATED:20201130T144657Z
LAST-MODIFIED:20210105T155518Z
UID:6856-1611878400-1611964799@budget.alabama.gov
SUMMARY:**January 29th – FY2021 1st quarter QPR submissions are due 01/29/21.**
DESCRIPTION:FY2021 1st quarter QPR submissions are due 01/29/21.
URL:https://budget.alabama.gov/event/december-31st-fy2021-1st-quarter-qpr-submissions-are-due-12-31-20/
END:VEVENT
END:VCALENDAR