BEGIN:VCALENDAR
VERSION:2.0
PRODID:-//Executive Budget Office - ECPv6.15.20//NONSGML v1.0//EN
CALSCALE:GREGORIAN
METHOD:PUBLISH
X-ORIGINAL-URL:https://budget.alabama.gov
X-WR-CALDESC:Events for Executive Budget Office
REFRESH-INTERVAL;VALUE=DURATION:PT1H
X-Robots-Tag:noindex
X-PUBLISHED-TTL:PT1H
BEGIN:VTIMEZONE
TZID:UTC
BEGIN:STANDARD
TZOFFSETFROM:+0000
TZOFFSETTO:+0000
TZNAME:UTC
DTSTART:20200101T000000
END:STANDARD
END:VTIMEZONE
BEGIN:VEVENT
DTSTART;VALUE=DATE:20210430
DTEND;VALUE=DATE:20210501
DTSTAMP:20260423T153203
CREATED:20210309T170241Z
LAST-MODIFIED:20210309T170241Z
UID:6933-1619740800-1619827199@budget.alabama.gov
SUMMARY:**2nd Quarter FY2021 QPR submissions are due**
DESCRIPTION:2nd Quarter FY2021 QPR submissions are due
URL:https://budget.alabama.gov/event/2nd-quarter-fy2021-qpr-submissions-are-due-2/
END:VEVENT
END:VCALENDAR