BEGIN:VCALENDAR
VERSION:2.0
PRODID:-//Executive Budget Office - ECPv6.15.20//NONSGML v1.0//EN
CALSCALE:GREGORIAN
METHOD:PUBLISH
X-ORIGINAL-URL:https://budget.alabama.gov
X-WR-CALDESC:Events for Executive Budget Office
REFRESH-INTERVAL;VALUE=DURATION:PT1H
X-Robots-Tag:noindex
X-PUBLISHED-TTL:PT1H
BEGIN:VTIMEZONE
TZID:UTC
BEGIN:STANDARD
TZOFFSETFROM:+0000
TZOFFSETTO:+0000
TZNAME:UTC
DTSTART:20200101T000000
END:STANDARD
END:VTIMEZONE
BEGIN:VEVENT
DTSTART;VALUE=DATE:20210614
DTEND;VALUE=DATE:20210615
DTSTAMP:20260423T201849
CREATED:20210610T190338Z
LAST-MODIFIED:20210610T190345Z
UID:7000-1623628800-1623715199@budget.alabama.gov
SUMMARY:Begin Entering FY2022 Operations Plans in STAARS PB
DESCRIPTION:Begin entering the FY22 Operations Plans in STAARS Performance Budgeting (PB) \n 
URL:https://budget.alabama.gov/event/begin-entering-fy2022-operations-plans-in-staars-pb/
END:VEVENT
END:VCALENDAR