BEGIN:VCALENDAR
VERSION:2.0
PRODID:-//Executive Budget Office - ECPv6.15.20//NONSGML v1.0//EN
CALSCALE:GREGORIAN
METHOD:PUBLISH
X-WR-CALNAME:Executive Budget Office
X-ORIGINAL-URL:https://budget.alabama.gov
X-WR-CALDESC:Events for Executive Budget Office
REFRESH-INTERVAL;VALUE=DURATION:PT1H
X-Robots-Tag:noindex
X-PUBLISHED-TTL:PT1H
BEGIN:VTIMEZONE
TZID:UTC
BEGIN:STANDARD
TZOFFSETFROM:+0000
TZOFFSETTO:+0000
TZNAME:UTC
DTSTART:20180101T000000
END:STANDARD
END:VTIMEZONE
BEGIN:VEVENT
DTSTART;VALUE=DATE:20190101
DTEND;VALUE=DATE:20190102
DTSTAMP:20260419T124153
CREATED:20181212T212618Z
LAST-MODIFIED:20181212T212618Z
UID:3272-1546300800-1546387199@budget.alabama.gov
SUMMARY:State Holiday (New Year's Day)
DESCRIPTION:State Holiday\n(New Year’s Day)
URL:https://budget.alabama.gov/event/state-holiday-new-years-day/
END:VEVENT
BEGIN:VEVENT
DTSTART;VALUE=DATE:20190114
DTEND;VALUE=DATE:20190115
DTSTAMP:20260419T124153
CREATED:20181212T212732Z
LAST-MODIFIED:20190107T190912Z
UID:3274-1547424000-1547510399@budget.alabama.gov
SUMMARY:Office Closed - Inauguration Day
DESCRIPTION:Office Closed\n(Inauguration Day)
URL:https://budget.alabama.gov/event/state-holiday-inauguration-day/
END:VEVENT
BEGIN:VEVENT
DTSTART;VALUE=DATE:20190121
DTEND;VALUE=DATE:20190122
DTSTAMP:20260419T124153
CREATED:20190107T191014Z
LAST-MODIFIED:20190107T191014Z
UID:3480-1548028800-1548115199@budget.alabama.gov
SUMMARY:State Holiday – Robert E Lee & Martin Luther King\, Jr. Birthday
DESCRIPTION:State Holiday \n(Robert E. Lee & Martin Luther King\, Jr. Birthday)
URL:https://budget.alabama.gov/event/state-holiday-robert-e-lee-martin-luther-king-jr-birthday/
END:VEVENT
BEGIN:VEVENT
DTSTART;VALUE=DATE:20190131
DTEND;VALUE=DATE:20190201
DTSTAMP:20260419T124153
CREATED:20180123T014619Z
LAST-MODIFIED:20181102T001556Z
UID:2708-1548892800-1548979199@budget.alabama.gov
SUMMARY:**1st QUARTER FY19 QPRs ARE DUE**
DESCRIPTION:The QPRs for the 1st quarter of Fiscal Year 2019 are due.
URL:https://budget.alabama.gov/event/1st-quarter-fy18-qprs-are-due/
END:VEVENT
END:VCALENDAR