BEGIN:VCALENDAR
VERSION:2.0
PRODID:-//Executive Budget Office - ECPv6.15.20//NONSGML v1.0//EN
CALSCALE:GREGORIAN
METHOD:PUBLISH
X-ORIGINAL-URL:https://budget.alabama.gov
X-WR-CALDESC:Events for Executive Budget Office
REFRESH-INTERVAL;VALUE=DURATION:PT1H
X-Robots-Tag:noindex
X-PUBLISHED-TTL:PT1H
BEGIN:VTIMEZONE
TZID:UTC
BEGIN:STANDARD
TZOFFSETFROM:+0000
TZOFFSETTO:+0000
TZNAME:UTC
DTSTART:20190101T000000
END:STANDARD
END:VTIMEZONE
BEGIN:VEVENT
DTSTART;VALUE=DATE:20201102
DTEND;VALUE=DATE:20201103
DTSTAMP:20260422T075336
CREATED:20200908T160334Z
LAST-MODIFIED:20200909T192319Z
UID:6787-1604275200-1604361599@budget.alabama.gov
SUMMARY:**FY2022 Budget Requests due (submitted in Performance Budgeting)**  **Federal Receipts and Expenditures reporting due**
DESCRIPTION:FY2022 Budget Requests due (submitted in Performance Budgeting)\nFederal Receipts and Expenditures reporting due
URL:https://budget.alabama.gov/event/fy2022-budget-requests-due-submitted-in-performance-budgeting/
END:VEVENT
END:VCALENDAR