BEGIN:VCALENDAR
VERSION:2.0
PRODID:-//Executive Budget Office - ECPv6.15.20//NONSGML v1.0//EN
CALSCALE:GREGORIAN
METHOD:PUBLISH
X-ORIGINAL-URL:https://budget.alabama.gov
X-WR-CALDESC:Events for Executive Budget Office
REFRESH-INTERVAL;VALUE=DURATION:PT1H
X-Robots-Tag:noindex
X-PUBLISHED-TTL:PT1H
BEGIN:VTIMEZONE
TZID:UTC
BEGIN:STANDARD
TZOFFSETFROM:+0000
TZOFFSETTO:+0000
TZNAME:UTC
DTSTART:20200101T000000
END:STANDARD
END:VTIMEZONE
BEGIN:VEVENT
DTSTART;VALUE=DATE:20210202
DTEND;VALUE=DATE:20210203
DTSTAMP:20260423T011156
CREATED:20201130T144921Z
LAST-MODIFIED:20201130T145018Z
UID:6858-1612224000-1612310399@budget.alabama.gov
SUMMARY:**Feb 2nd FY2021 Regular Session convenes 02/02/21**
DESCRIPTION:Feb 2nd FY2021 Regular Session convenes 02/02/2021
URL:https://budget.alabama.gov/event/feb-2nd-fy2021-regular-session-convenes-2-21-2021/
END:VEVENT
END:VCALENDAR