Workbook

Sheet Coversheet
A1: State of Alabama | B1: Agency IT Budget Request | D1: Fiscal Year
A2: EBO Form 7 - Information Technology | D2: 2028
A5: Agency Name: | C5: STAARS Agency Code:
A6: Agency Division/Section: (Optional)
A8: Agency Contact Information
A9: Name
A10: Title:
A11: Phone:
A12: E-Mail:

Sheet Other IT
A1: =Coversheet!A1 -> State of Alabama | B1: Agency IT Budget Request | C1: Fiscal Year
A2: =Coversheet!A2 -> EBO Form 7 - Information Technology | B2: Total Other IT Budget - IT Costs not related to IT Projects (Excluding IT Projects Submitted Separately) | C2: =Coversheet!D2 -> 2028
A4: Object Code | B4: Object Definition | C4: ="Requested "& C2 & " (Whole Dollars)" -> Requested 2028 (Whole Dollars)
A5: 0100 | B5: Personnel Costs
A6: 0200 | B6: Employee Benefits
A7: 0300 | B7: Travel-In-State
A8: 0400 | B8: Travel-Out-Of-State
A9: 0500 | B9: Repairs and Maintenance
A10: 0600 | B10: Rentals and Leases
A11: 0700 | B11: Utilities and Communication
A12: 0800 | B12: Professional Services
A13: 0900 | B13: Supplies, Materials and Operating Exp
A14: 1000 | B14: Transportation Equipment Operations
A15: 1100 | B15: Grants and Benefits
A16: 1200 | B16: Capital Outlay
... A20: 1600 | B20: Miscellaneous
B21: IT Operations Total | C21: =SUM(C5:C20) -> 0
A23: Operations IT Staffing (FTE) - (Two Decimals)
A24: a. IT State Staff with IT Classifications (FTE)
A25: b. State Staff doing IT functions (FTE)
A26: c. Ancillary or Support State Staff (FTE)
A27: d. Contract Staff
A28: IT Operations Staffing Total | C28: =SUM(C24:C27) -> 0

Sheet Proj 01
A1: State of Alabama | B1: Agency IT Budget Request | D1: Project 01
A2: =Coversheet!A2 -> EBO Form 7 - Information Technology | B2: Ongoing and Planned IT Projects (Submit each IT Project on a Separate Tab) | D2: =" Fiscal Year "& Coversheet!D2 -> Fiscal Year 2028
A4: IT Project Budget Information
A5: Project Title/Name: | C5: Start Date: (MM/DD/YYYY)
A6: Project Description: | C6: Completion Date: (MM/DD/YYYY)
A7: Project Priority : | C7: Total Project Costs: (Whole Dollars)
A8: EBO -11 Ops Plan Proj Tab: | C8: Total Costs to Date: (As of 9/30/2026)
A10: IT Project Budget Information
A11: Object Code | B11: Object Definition | C11: =_xlfn.CONCAT("Budgeted "&Coversheet!$D$2-1&" (Whole Dollars)") -> Budgeted 2027 (Whole Dollars) | D11: =_xlfn.CONCAT("Requested "&Coversheet!$D$2&" (Whole Dollars)") -> Requested 2028 (Whole Dollars)
A12: 0100 | B12: Personnel Costs
A13: 0200 | B13: Employee Benefits | I13: Proj 01
A14: 0300 | B14: Travel-In-State | I14: Proj 02
A15: 0400 | B15: Travel-Out-Of-State | I15: Proj 03
A16: 0500 | B16: Repairs and Maintenance | I16: Proj 04
A17: 0600 | B17: Rentals and Leases | I17: Proj 05
A18: 0700 | B18: Utilities and Communication | I18: Proj 06
A19: 0800 | B19: Professional Services | I19: Proj 07
A20: 0900 | B20: Supplies, Materials and Operating Exp | I20: Proj 08
A21: 1000 | B21: Transportation Equipment Operations | I21: Proj 09
A22: 1100 | B22: Grants and Benefits | I22: Proj 10
A23: 1200 | B23: Capital Outlay | I23: New
A24: 1300 | B24: Transportation Equipment Purchases
A25: 1400 | B25: Other Equipment Purchases
A26: 1500 | B26: Debt Service
A27: 1600 | B27: Miscellaneous
A28: Total Project Cost/Expenditures | C28: =SUM(C12:C27) -> 0 | D28: =SUM(D12:D27) -> 0
A30: Project Staffing (FTE) Duration of Project - (Two Decimals)
A31: a. IT State Staff with IT Classifications (FTE)
A32: b. State Staff doing IT functions (FTE)
A33: c. Ancillary or Support State Staff (FTE)
A34: d. Contract Staff
A35: Project Staffing Totals | C35: =SUM(C31:C34) -> 0 | D35: =SUM(D31:D34) -> 0

Sheet Proj 02
A1: =Coversheet!A1 -> State of Alabama | B1: Agency IT Budget Request | D1: Project 02
A2: =Coversheet!A2 -> EBO Form 7 - Information Technology | B2: Ongoing and Planned IT Projects (Submit each IT Project on a Separate Tab) | D2: =" Fiscal Year "& Coversheet!D2 -> Fiscal Year 2028
A4: IT Project Budget Information
A5: Project Title/Name: | C5: Start Date: (MM/DD/YYYY)
A6: Project Description: | C6: Completion Date: (MM/DD/YYYY)
A7: Project Priority : | C7: Total Project Costs: (Whole Dollars)
A8: EBO -11 Ops Plan Proj Tab: | C8: Total Costs to Date: (As of 9/30/2025)
A10: IT Project Budget Information
A11: Object Code | B11: Object Definition | C11: ='Proj 01'!$C$11 -> Budgeted 2027 (Whole Dollars) | D11: ='Proj 01'!$D$11 -> Requested 2028 (Whole Dollars)
A12: 0100 | B12: Personnel Costs
A13: 0200 | B13: Employee Benefits
A14: 0300 | B14: Travel-In-State
A15: 0400 | B15: Travel-Out-Of-State
A16: 0500 | B16: Repairs and Maintenance
A17: 0600 | B17: Rentals and Leases
A18: 0700 | B18: Utilities and Communication
A19: 0800 | B19: Professional Services
A20: 0900 | B20: Supplies, Materials and Operating Exp
A21: 1000 | B21: Transportation Equipment Operations
A22: 1100 | B22: Grants and Benefits
A23: 1200 | B23: Capital Outlay
... A27: 1600 | B27: Miscellaneous
A28: Total Project Cost/Expenditures | C28: =SUM(C12:C27) -> 0 | D28: =SUM(D12:D27) -> 0
A30: Project Staffing (FTE) Duration of Project - (Two Decimals)
A31: a. IT State Staff with IT Classifications (FTE)
A32: b. State Staff doing IT functions (FTE)
A33: c. Ancillary or Support State Staff (FTE)
A34: d. Contract Staff
A35: Project Staffing Totals | C35: =SUM(C31:C34) -> 0 | D35: =SUM(D31:D34) -> 0

Sheet Proj 03
A1: =Coversheet!A1 -> State of Alabama | B1: Agency IT Budget Request | D1: Project 03
A2: =Coversheet!A2 -> EBO Form 7 - Information Technology | B2: Ongoing and Planned IT Projects (Submit each IT Project on a Separate Tab) | D2: =" Fiscal Year "& Coversheet!D2 -> Fiscal Year 2028
A4: IT Project Budget Information
A5: Project Title/Name: | C5: Start Date: (MM/DD/YYYY)
A6: Project Description: | C6: Completion Date: (MM/DD/YYYY)
A7: Project Priority : | C7: Total Project Costs: (Whole Dollars)
A8: EBO -11 Ops Plan Proj Tab: | C8: Total Costs to Date: (As of 9/30/2025)
A10: IT Project Budget Information
A11: Object Code | B11: Object Definition | C11: ='Proj 01'!$C$11 -> Budgeted 2027 (Whole Dollars) | D11: ='Proj 01'!$D$11 -> Requested 2028 (Whole Dollars)
A12: 0100 | B12: Personnel Costs
A13: 0200 | B13: Employee Benefits
A14: 0300 | B14: Travel-In-State
A15: 0400 | B15: Travel-Out-Of-State
A16: 0500 | B16: Repairs and Maintenance
A17: 0600 | B17: Rentals and Leases
A18: 0700 | B18: Utilities and Communication
A19: 0800 | B19: Professional Services
A20: 0900 | B20: Supplies, Materials and Operating Exp
A21: 1000 | B21: Transportation Equipment Operations
A22: 1100 | B22: Grants and Benefits
A23: 1200 | B23: Capital Outlay
... A27: 1600 | B27: Miscellaneous
A28: Total Project Cost/Expenditures | C28: =SUM(C12:C27) -> 0 | D28: =SUM(D12:D27) -> 0
A30: Project Staffing (FTE) Duration of Project - (Two Decimals)
A31: a. IT State Staff with IT Classifications (FTE)
A32: b. State Staff doing IT functions (FTE)
A33: c. Ancillary or Support State Staff (FTE)
A34: d. Contract Staff
A35: Project Staffing Totals | C35: =SUM(C31:C34) -> 0 | D35: =SUM(D31:D34) -> 0

Sheet Proj 04
A1: =Coversheet!A1 -> State of Alabama | B1: Agency IT Budget Request | D1: Project 04
A2: =Coversheet!A2 -> EBO Form 7 - Information Technology | B2: Ongoing and Planned IT Projects (Submit each IT Project on a Separate Tab) | D2: =" Fiscal Year "& Coversheet!D2 -> Fiscal Year 2028
A4: IT Project Budget Information
A5: Project Title/Name: | C5: Start Date: (MM/DD/YYYY)
A6: Project Description: | C6: Completion Date: (MM/DD/YYYY)
A7: Project Priority : | C7: Total Project Costs: (Whole Dollars)
A8: EBO -11 Ops Plan Proj Tab: | C8: Total Costs to Date: (As of 9/30/2025)
A10: IT Project Budget Information
A11: Object Code | B11: Object Definition | C11: ='Proj 01'!$C$11 -> Budgeted 2027 (Whole Dollars) | D11: ='Proj 01'!$D$11 -> Requested 2028 (Whole Dollars)
A12: 0100 | B12: Personnel Costs
A13: 0200 | B13: Employee Benefits
A14: 0300 | B14: Travel-In-State
A15: 0400 | B15: Travel-Out-Of-State
A16: 0500 | B16: Repairs and Maintenance
A17: 0600 | B17: Rentals and Leases
A18: 0700 | B18: Utilities and Communication
A19: 0800 | B19: Professional Services
A20: 0900 | B20: Supplies, Materials and Operating Exp
A21: 1000 | B21: Transportation Equipment Operations
A22: 1100 | B22: Grants and Benefits
A23: 1200 | B23: Capital Outlay
... A27: 1600 | B27: Miscellaneous
A28: Total Project Cost/Expenditures | C28: =SUM(C12:C27) -> 0 | D28: =SUM(D12:D27) -> 0
A30: Project Staffing (FTE) Duration of Project - (Two Decimals)
A31: a. IT State Staff with IT Classifications (FTE)
A32: b. State Staff doing IT functions (FTE)
A33: c. Ancillary or Support State Staff (FTE)
A34: d. Contract Staff
A35: Project Staffing Totals | C35: =SUM(C31:C34) -> 0 | D35: =SUM(D31:D34) -> 0

Sheet Proj 05
A1: =Coversheet!A1 -> State of Alabama | B1: Agency IT Budget Request | D1: Project 05
A2: =Coversheet!A2 -> EBO Form 7 - Information Technology | B2: Ongoing and Planned IT Projects (Submit each IT Project on a Separate Tab) | D2: =" Fiscal Year "& Coversheet!D2 -> Fiscal Year 2028
A4: IT Project Budget Information
A5: Project Title/Name: | C5: Start Date: (MM/DD/YYYY)
A6: Project Description: | C6: Completion Date: (MM/DD/YYYY)
A7: Project Priority : | C7: Total Project Costs: (Whole Dollars)
A8: EBO -11 Ops Plan Proj Tab: | C8: Total Costs to Date: (As of 9/30/2025)
A10: IT Project Budget Information
A11: Object Code | B11: Object Definition | C11: ='Proj 01'!$C$11 -> Budgeted 2027 (Whole Dollars) | D11: ='Proj 01'!$D$11 -> Requested 2028 (Whole Dollars)
A12: 0100 | B12: Personnel Costs
A13: 0200 | B13: Employee Benefits
A14: 0300 | B14: Travel-In-State
A15: 0400 | B15: Travel-Out-Of-State
A16: 0500 | B16: Repairs and Maintenance
A17: 0600 | B17: Rentals and Leases
A18: 0700 | B18: Utilities and Communication
A19: 0800 | B19: Professional Services
A20: 0900 | B20: Supplies, Materials and Operating Exp
A21: 1000 | B21: Transportation Equipment Operations
A22: 1100 | B22: Grants and Benefits
A23: 1200 | B23: Capital Outlay
... A27: 1600 | B27: Miscellaneous
A28: Total Project Cost/Expenditures | C28: =SUM(C12:C27) -> 0 | D28: =SUM(D12:D27) -> 0
A30: Project Staffing (FTE) Duration of Project - (Two Decimals)
A31: a. IT State Staff with IT Classifications (FTE)
A32: b. State Staff doing IT functions (FTE)
A33: c. Ancillary or Support State Staff (FTE)
A34: d. Contract Staff
A35: Project Staffing Totals | C35: =SUM(C31:C34) -> 0 | D35: =SUM(D31:D34) -> 0

Sheet Proj 06
A1: =Coversheet!A1 -> State of Alabama | B1: Agency IT Budget Request | D1: Project 06
A2: =Coversheet!A2 -> EBO Form 7 - Information Technology | B2: Ongoing and Planned IT Projects (Submit each IT Project on a Separate Tab) | D2: =" Fiscal Year "& Coversheet!D2 -> Fiscal Year 2028
A4: IT Project Budget Information
A5: Project Title/Name: | C5: Start Date: (MM/DD/YYYY)
A6: Project Description: | C6: Completion Date: (MM/DD/YYYY)
A7: Project Priority : | C7: Total Project Costs: (Whole Dollars)
A8: EBO -11 Ops Plan Proj Tab: | C8: Total Costs to Date: (As of 9/30/2025)
A10: IT Project Budget Information
A11: Object Code | B11: Object Definition | C11: ='Proj 01'!$C$11 -> Budgeted 2027 (Whole Dollars) | D11: ='Proj 01'!$D$11 -> Requested 2028 (Whole Dollars)
A12: 0100 | B12: Personnel Costs
A13: 0200 | B13: Employee Benefits
A14: 0300 | B14: Travel-In-State
A15: 0400 | B15: Travel-Out-Of-State
A16: 0500 | B16: Repairs and Maintenance
A17: 0600 | B17: Rentals and Leases
A18: 0700 | B18: Utilities and Communication
A19: 0800 | B19: Professional Services
A20: 0900 | B20: Supplies, Materials and Operating Exp
A21: 1000 | B21: Transportation Equipment Operations
A22: 1100 | B22: Grants and Benefits
A23: 1200 | B23: Capital Outlay
... A27: 1600 | B27: Miscellaneous
A28: Total Project Cost/Expenditures | C28: =SUM(C12:C27) -> 0 | D28: =SUM(D12:D27) -> 0
A30: Project Staffing (FTE) Duration of Project - (Two Decimals)
A31: a. IT State Staff with IT Classifications (FTE)
A32: b. State Staff doing IT functions (FTE)
A33: c. Ancillary or Support State Staff (FTE)
A34: d. Contract Staff
A35: Project Staffing Totals | C35: =SUM(C31:C34) -> 0 | D35: =SUM(D31:D34) -> 0

Sheet Proj 07
A1: =Coversheet!A1 -> State of Alabama | B1: Agency IT Budget Request | D1: Project 07
A2: =Coversheet!A2 -> EBO Form 7 - Information Technology | B2: Ongoing and Planned IT Projects (Submit each IT Project on a Separate Tab) | D2: =" Fiscal Year "& Coversheet!D2 -> Fiscal Year 2028
A4: IT Project Budget Information
A5: Project Title/Name: | C5: Start Date: (MM/DD/YYYY)
A6: Project Description: | C6: Completion Date: (MM/DD/YYYY)
A7: Project Priority : | C7: Total Project Costs: (Whole Dollars)
A8: EBO -11 Ops Plan Proj Tab: | C8: Total Costs to Date: (As of 9/30/2025)
A10: IT Project Budget Information
A11: Object Code | B11: Object Definition | C11: ='Proj 01'!$C$11 -> Budgeted 2027 (Whole Dollars) | D11: ='Proj 01'!$D$11 -> Requested 2028 (Whole Dollars)
A12: 0100 | B12: Personnel Costs
A13: 0200 | B13: Employee Benefits
A14: 0300 | B14: Travel-In-State
A15: 0400 | B15: Travel-Out-Of-State
A16: 0500 | B16: Repairs and Maintenance
A17: 0600 | B17: Rentals and Leases
A18: 0700 | B18: Utilities and Communication
A19: 0800 | B19: Professional Services
A20: 0900 | B20: Supplies, Materials and Operating Exp
A21: 1000 | B21: Transportation Equipment Operations
A22: 1100 | B22: Grants and Benefits
A23: 1200 | B23: Capital Outlay
... A27: 1600 | B27: Miscellaneous
A28: Total Project Cost/Expenditures | C28: =SUM(C12:C27) -> 0 | D28: =SUM(D12:D27) -> 0
A30: Project Staffing (FTE) Duration of Project - (Two Decimals)
A31: a. IT State Staff with IT Classifications (FTE)
A32: b. State Staff doing IT functions (FTE)
A33: c. Ancillary or Support State Staff (FTE)
A34: d. Contract Staff
A35: Project Staffing Totals | C35: =SUM(C31:C34) -> 0 | D35: =SUM(D31:D34) -> 0

Sheet Proj 08
A1: =Coversheet!A1 -> State of Alabama | B1: Agency IT Budget Request | D1: Project 08
A2: =Coversheet!A2 -> EBO Form 7 - Information Technology | B2: Ongoing and Planned IT Projects (Submit each IT Project on a Separate Tab) | D2: =" Fiscal Year "& Coversheet!D2 -> Fiscal Year 2028
A4: IT Project Budget Information
A5: Project Title/Name: | C5: Start Date: (MM/DD/YYYY)
A6: Project Description: | C6: Completion Date: (MM/DD/YYYY)
A7: Project Priority : | C7: Total Project Costs: (Whole Dollars)
A8: EBO -11 Ops Plan Proj Tab: | C8: Total Costs to Date: (As of 9/30/2025)
A10: IT Project Budget Information
A11: Object Code | B11: Object Definition | C11: ='Proj 01'!$C$11 -> Budgeted 2027 (Whole Dollars) | D11: ='Proj 01'!$D$11 -> Requested 2028 (Whole Dollars)
A12: 0100 | B12: Personnel Costs
A13: 0200 | B13: Employee Benefits
A14: 0300 | B14: Travel-In-State
A15: 0400 | B15: Travel-Out-Of-State
A16: 0500 | B16: Repairs and Maintenance
A17: 0600 | B17: Rentals and Leases
A18: 0700 | B18: Utilities and Communication
A19: 0800 | B19: Professional Services
A20: 0900 | B20: Supplies, Materials and Operating Exp
A21: 1000 | B21: Transportation Equipment Operations
A22: 1100 | B22: Grants and Benefits
A23: 1200 | B23: Capital Outlay
... A27: 1600 | B27: Miscellaneous
A28: Total Project Cost/Expenditures | C28: =SUM(C12:C27) -> 0 | D28: =SUM(D12:D27) -> 0
A30: Project Staffing (FTE) Duration of Project - (Two Decimals)
A31: a. IT State Staff with IT Classifications (FTE)
A32: b. State Staff doing IT functions (FTE)
A33: c. Ancillary or Support State Staff (FTE)
A34: d. Contract Staff
A35: Project Staffing Totals | C35: =SUM(C31:C34) -> 0 | D35: =SUM(D31:D34) -> 0

Sheet Proj 09
A1: =Coversheet!A1 -> State of Alabama | B1: Agency IT Budget Request | D1: Project 09
A2: =Coversheet!A2 -> EBO Form 7 - Information Technology | B2: Ongoing and Planned IT Projects (Submit each IT Project on a Separate Tab) | D2: =" Fiscal Year "& Coversheet!D2 -> Fiscal Year 2028
A4: IT Project Budget Information
A5: Project Title/Name: | C5: Start Date: (MM/DD/YYYY)
A6: Project Description: | C6: Completion Date: (MM/DD/YYYY)
A7: Project Priority : | C7: Total Project Costs: (Whole Dollars)
A8: EBO -11 Ops Plan Proj Tab: | C8: Total Costs to Date: (As of 9/30/2025)
A10: IT Project Budget Information
A11: Object Code | B11: Object Definition | C11: ='Proj 01'!$C$11 -> Budgeted 2027 (Whole Dollars) | D11: ='Proj 01'!$D$11 -> Requested 2028 (Whole Dollars)
A12: 0100 | B12: Personnel Costs
A13: 0200 | B13: Employee Benefits
A14: 0300 | B14: Travel-In-State
A15: 0400 | B15: Travel-Out-Of-State
A16: 0500 | B16: Repairs and Maintenance
A17: 0600 | B17: Rentals and Leases
A18: 0700 | B18: Utilities and Communication
A19: 0800 | B19: Professional Services
A20: 0900 | B20: Supplies, Materials and Operating Exp
A21: 1000 | B21: Transportation Equipment Operations
A22: 1100 | B22: Grants and Benefits
A23: 1200 | B23: Capital Outlay
... A27: 1600 | B27: Miscellaneous
A28: Total Project Cost/Expenditures | C28: =SUM(C12:C27) -> 0 | D28: =SUM(D12:D27) -> 0
A30: Project Staffing (FTE) Duration of Project - (Two Decimals)
A31: a. IT State Staff with IT Classifications (FTE)
A32: b. State Staff doing IT functions (FTE)
A33: c. Ancillary or Support State Staff (FTE)
A34: d. Contract Staff
A35: Project Staffing Totals | C35: =SUM(C31:C34) -> 0 | D35: =SUM(D31:D34) -> 0

Sheet Proj 10
A1: =Coversheet!A1 -> State of Alabama | B1: Agency IT Budget Request | D1: Project 10
A2: =Coversheet!A2 -> EBO Form 7 - Information Technology | B2: Ongoing and Planned IT Projects (Submit each IT Project on a Separate Tab) | D2: =" Fiscal Year "& Coversheet!D2 -> Fiscal Year 2028
A4: IT Project Budget Information
A5: Project Title/Name: | C5: Start Date: (MM/DD/YYYY)
A6: Project Description: | C6: Completion Date: (MM/DD/YYYY)
A7: Project Priority : | C7: Total Project Costs: (Whole Dollars)
A8: EBO -11 Ops Plan Proj Tab: | C8: Total Costs to Date: (As of 9/30/2025)
A10: IT Project Budget Information
A11: Object Code | B11: Object Definition | C11: ='Proj 01'!$C$11 -> Budgeted 2027 (Whole Dollars) | D11: ='Proj 01'!$D$11 -> Requested 2028 (Whole Dollars)
A12: 0100 | B12: Personnel Costs
A13: 0200 | B13: Employee Benefits
A14: 0300 | B14: Travel-In-State
A15: 0400 | B15: Travel-Out-Of-State
A16: 0500 | B16: Repairs and Maintenance
A17: 0600 | B17: Rentals and Leases
A18: 0700 | B18: Utilities and Communication
A19: 0800 | B19: Professional Services
A20: 0900 | B20: Supplies, Materials and Operating Exp
A21: 1000 | B21: Transportation Equipment Operations
A22: 1100 | B22: Grants and Benefits
A23: 1200 | B23: Capital Outlay
... A27: 1600 | B27: Miscellaneous
A28: Total Project Cost/Expenditures | C28: =SUM(C12:C27) -> 0 | D28: =SUM(D12:D27) -> 0
A30: Project Staffing (FTE) Duration of Project - (Two Decimals)
A31: a. IT State Staff with IT Classifications (FTE)
A32: b. State Staff doing IT functions (FTE)
A33: c. Ancillary or Support State Staff (FTE)
A34: d. Contract Staff
A35: Project Staffing Totals | C35: =SUM(C31:C34) -> 0 | D35: =SUM(D31:D34) -> 0

Sheet Total IT
A1: =Coversheet!A1 -> State of Alabama | B1: Agency IT Budget Request | C1: Fiscal Year
A2: =Coversheet!A2 -> EBO Form 7 - Information Technology | B2: Total IT Budget - (Including IT Projects Submitted Separately) | C2: =Coversheet!D2 -> 2028
A4: Object Code | B4: Object Definition | C4: ='Proj 01'!$D$11 -> Requested 2028 (Whole Dollars)
A5: 0100 | B5: Personnel Costs | C5: ='Other IT'!C5+'Proj 01'!D12+'Proj 02'!D12+'Proj 03'!D12+'Proj 04'!D12+'Proj 05'!D12+'Proj 06'!D12+'Proj 07'!D12+'Proj 08'!D12+'Proj 09'!D12+'Proj 10'!D12 -> 0
A6: 0200 | B6: Employee Benefits | C6: ='Other IT'!C6+'Proj 01'!D13+'Proj 02'!D13+'Proj 03'!D13+'Proj 04'!D13+'Proj 05'!D13+'Proj 06'!D13+'Proj 07'!D13+'Proj 08'!D13+'Proj 09'!D13+'Proj 10'!D13 -> 0
A7: 0300 | B7: Travel-In-State | C7: ='Other IT'!C7+'Proj 01'!D14+'Proj 02'!D14+'Proj 03'!D14+'Proj 04'!D14+'Proj 05'!D14+'Proj 06'!D14+'Proj 07'!D14+'Proj 08'!D14+'Proj 09'!D14+'Proj 10'!D14 -> 0
A8: 0400 | B8: Travel-Out-Of-State | C8: ='Other IT'!C8+'Proj 01'!D15+'Proj 02'!D15+'Proj 03'!D15+'Proj 04'!D15+'Proj 05'!D15+'Proj 06'!D15+'Proj 07'!D15+'Proj 08'!D15+'Proj 09'!D15+'Proj 10'!D15 -> 0
A9: 0500 | B9: Repairs and Maintenance | C9: ='Other IT'!C9+'Proj 01'!D16+'Proj 02'!D16+'Proj 03'!D16+'Proj 04'!D16+'Proj 05'!D16+'Proj 06'!D16+'Proj 07'!D16+'Proj 08'!D16+'Proj 09'!D16+'Proj 10'!D16 -> 0
A10: 0600 | B10: Rentals and Leases | C10: ='Other IT'!C10+'Proj 01'!D17+'Proj 02'!D17+'Proj 03'!D17+'Proj 04'!D17+'Proj 05'!D17+'Proj 06'!D17+'Proj 07'!D17+'Proj 08'!D17+'Proj 09'!D17+'Proj 10'!D17 -> 0
A11: 0700 | B11: Utilities and Communication | C11: ='Other IT'!C11+'Proj 01'!D18+'Proj 02'!D18+'Proj 03'!D18+'Proj 04'!D18+'Proj 05'!D18+'Proj 06'!D18+'Proj 07'!D18+'Proj 08'!D18+'Proj 09'!D18+'Proj 10'!D18 -> 0
A12: 0800 | B12: Professional Services | C12: ='Other IT'!C12+'Proj 01'!D19+'Proj 02'!D19+'Proj 03'!D19+'Proj 04'!D19+'Proj 05'!D19+'Proj 06'!D19+'Proj 07'!D19+'Proj 08'!D19+'Proj 09'!D19+'Proj 10'!D19 -> 0
A13: 0900 | B13: Supplies, Materials and Operating Exp | C13: ='Other IT'!C13+'Proj 01'!D20+'Proj 02'!D20+'Proj 03'!D20+'Proj 04'!D20+'Proj 05'!D20+'Proj 06'!D20+'Proj 07'!D20+'Proj 08'!D20+'Proj 09'!D20+'Proj 10'!D20 -> 0
A14: 1000 | B14: Transportation Equipment Operations | C14: ='Other IT'!C14+'Proj 01'!D21+'Proj 02'!D21+'Proj 03'!D21+'Proj 04'!D21+'Proj 05'!D21+'Proj 06'!D21+'Proj 07'!D21+'Proj 08'!D21+'Proj 09'!D21+'Proj 10'!D21 -> 0
A15: 1100 | B15: Grants and Benefits | C15: ='Other IT'!C15+'Proj 01'!D22+'Proj 02'!D22+'Proj 03'!D22+'Proj 04'!D22+'Proj 05'!D22+'Proj 06'!D22+'Proj 07'!D22+'Proj 08'!D22+'Proj 09'!D22+'Proj 10'!D22 -> 0
A16: 1200 | B16: Capital Outlay | C16: ='Other IT'!C16+'Proj 01'!D23+'Proj 02'!D23+'Proj 03'!D23+'Proj 04'!D23+'Proj 05'!D23+'Proj 06'!D23+'Proj 07'!D23+'Proj 08'!D23+'Proj 09'!D23+'Proj 10'!D23 -> 0
... A20: 1600 | B20: Miscellaneous | C20: ='Other IT'!C20+'Proj 01'!D27+'Proj 02'!D27+'Proj 03'!D27+'Proj 04'!D27+'Proj 05'!D27+'Proj 06'!D27+'Proj 07'!D27+'Proj 08'!D27+'Proj 09'!D27+'Proj 10'!D27 -> 0
B21: IT Operations Total | C21: =SUM(C5:C20) -> 0
A23: Operations IT Staffing (FTE) - (Two Decimals)
A24: a. IT State Staff with IT Classifications (FTE) | C24: ='Other IT'!C24+'Proj 01'!D31+'Proj 02'!D31+'Proj 03'!D31+'Proj 04'!D31+'Proj 05'!D31+'Proj 06'!D31+'Proj 07'!D31+'Proj 08'!D31+'Proj 09'!D31+'Proj 10'!D31 -> 0
A25: b. State Staff doing IT functions (FTE) | C25: ='Other IT'!C25+'Proj 01'!D32+'Proj 02'!D32+'Proj 03'!D32+'Proj 04'!D32+'Proj 05'!D32+'Proj 06'!D32+'Proj 07'!D32+'Proj 08'!D32+'Proj 09'!D32+'Proj 10'!D32 -> 0
A26: c. Ancillary or Support State Staff (FTE) | C26: ='Other IT'!C26+'Proj 01'!D33+'Proj 02'!D33+'Proj 03'!D33+'Proj 04'!D33+'Proj 05'!D33+'Proj 06'!D33+'Proj 07'!D33+'Proj 08'!D33+'Proj 09'!D33+'Proj 10'!D33 -> 0
A27: d. Contract Staff | C27: ='Other IT'!C27+'Proj 01'!D34+'Proj 02'!D34+'Proj 03'!D34+'Proj 04'!D34+'Proj 05'!D34+'Proj 06'!D34+'Proj 07'!D34+'Proj 08'!D34+'Proj 09'!D34+'Proj 10'!D34 -> 0
A28: IT Operations Staffing Total | C28: =SUM(C24:C27) -> 0

Sheet For State Use ONLY
A1: Type | B1: Agcy Cde | C1: Agency | D1: Orgn | E1: Category | F1: Field1 | G1: Field2 | H1: Field3 | I1: Field4 | J1: PJ Priority | K1: PJ TL Cost | L1: PJ YDT Cost | M1: PrirYrProjTab | N1: Form | O1: BR FY
A2: CS | B2: =Coversheet!$D$5 -> 0 | C2: =Coversheet!$B$5 -> 0 | D2: =Coversheet!$D$6 -> 0 | E2: Agency | F2: =Coversheet!$B$9 -> 0 | G2: =Coversheet!$B$10 -> 0 | H2: =Coversheet!$B$11 -> 0 | I2: =Coversheet!$B$12 -> 0 | N2: EBO-7 BR | O2: =Coversheet!$D$2 -> 2028
A3: OTIT | B3: =Coversheet!$D$5 -> 0 | C3: =Coversheet!$B$5 -> 0 | D3: =Coversheet!$D$6 -> 0 | E3: Obj 0100 | G3: ='Other IT'!$C$5 -> 0 | N3: EBO-7 BR | O3: =Coversheet!$D$2 -> 2028
A4: OTIT | B4: =Coversheet!$D$5 -> 0 | C4: =Coversheet!$B$5 -> 0 | D4: =Coversheet!$D$6 -> 0 | E4: Obj 0200 | G4: ='Other IT'!$C$6 -> 0 | N4: EBO-7 BR | O4: =Coversheet!$D$2 -> 2028
A5: OTIT | B5: =Coversheet!$D$5 -> 0 | C5: =Coversheet!$B$5 -> 0 | D5: =Coversheet!$D$6 -> 0 | E5: Obj 0300 | G5: ='Other IT'!$C$7 -> 0 | N5: EBO-7 BR | O5: =Coversheet!$D$2 -> 2028
A6: OTIT | B6: =Coversheet!$D$5 -> 0 | C6: =Coversheet!$B$5 -> 0 | D6: =Coversheet!$D$6 -> 0 | E6: Obj 0400 | G6: ='Other IT'!$C$8 -> 0 | N6: EBO-7 BR | O6: =Coversheet!$D$2 -> 2028
A7: OTIT | B7: =Coversheet!$D$5 -> 0 | C7: =Coversheet!$B$5 -> 0 | D7: =Coversheet!$D$6 -> 0 | E7: Obj 0500 | G7: ='Other IT'!$C$9 -> 0 | N7: EBO-7 BR | O7: =Coversheet!$D$2 -> 2028
A8: OTIT | B8: =Coversheet!$D$5 -> 0 | C8: =Coversheet!$B$5 -> 0 | D8: =Coversheet!$D$6 -> 0 | E8: Obj 0600 | G8: ='Other IT'!$C$10 -> 0 | N8: EBO-7 BR | O8: =Coversheet!$D$2 -> 2028
A9: OTIT | B9: =Coversheet!$D$5 -> 0 | C9: =Coversheet!$B$5 -> 0 | D9: =Coversheet!$D$6 -> 0 | E9: Obj 0700 | G9: ='Other IT'!$C$11 -> 0 | N9: EBO-7 BR | O9: =Coversheet!$D$2 -> 2028
A10: OTIT | B10: =Coversheet!$D$5 -> 0 | C10: =Coversheet!$B$5 -> 0 | D10: =Coversheet!$D$6 -> 0 | E10: Obj 0800 | G10: ='Other IT'!$C$12 -> 0 | N10: EBO-7 BR | O10: =Coversheet!$D$2 -> 2028
A11: OTIT | B11: =Coversheet!$D$5 -> 0 | C11: =Coversheet!$B$5 -> 0 | D11: =Coversheet!$D$6 -> 0 | E11: Obj 0900 | G11: ='Other IT'!$C$13 -> 0 | N11: EBO-7 BR | O11: =Coversheet!$D$2 -> 2028
A12: OTIT | B12: =Coversheet!$D$5 -> 0 | C12: =Coversheet!$B$5 -> 0 | D12: =Coversheet!$D$6 -> 0 | E12: Obj 1000 | G12: ='Other IT'!$C$14 -> 0 | N12: EBO-7 BR | O12: =Coversheet!$D$2 -> 2028
A13: OTIT | B13: =Coversheet!$D$5 -> 0 | C13: =Coversheet!$B$5 -> 0 | D13: =Coversheet!$D$6 -> 0 | E13: Obj 1100 | G13: ='Other IT'!$C$15 -> 0 | N13: EBO-7 BR | O13: =Coversheet!$D$2 -> 2028
A14: OTIT | B14: =Coversheet!$D$5 -> 0 | C14: =Coversheet!$B$5 -> 0 | D14: =Coversheet!$D$6 -> 0 | E14: Obj 1200 | G14: ='Other IT'!$C$16 -> 0 | N14: EBO-7 BR | O14: =Coversheet!$D$2 -> 2028
A15: OTIT | B15: =Coversheet!$D$5 -> 0 | C15: =Coversheet!$B$5 -> 0 | D15: =Coversheet!$D$6 -> 0 | E15: Obj 1300 | G15: ='Other IT'!$C$17 -> 0 | N15: EBO-7 BR | O15: =Coversheet!$D$2 -> 2028
A16: OTIT | B16: =Coversheet!$D$5 -> 0 | C16: =Coversheet!$B$5 -> 0 | D16: =Coversheet!$D$6 -> 0 | E16: Obj 1400 | G16: ='Other IT'!$C$18 -> 0 | N16: EBO-7 BR | O16: =Coversheet!$D$2 -> 2028
A17: OTIT | B17: =Coversheet!$D$5 -> 0 | C17: =Coversheet!$B$5 -> 0 | D17: =Coversheet!$D$6 -> 0 | E17: Obj 1500 | G17: ='Other IT'!$C$19 -> 0 | N17: EBO-7 BR | O17: =Coversheet!$D$2 -> 2028
A18: OTIT | B18: =Coversheet!$D$5 -> 0 | C18: =Coversheet!$B$5 -> 0 | D18: =Coversheet!$D$6 -> 0 | E18: Obj 1600 | G18: ='Other IT'!$C$20 -> 0 | N18: EBO-7 BR | O18: =Coversheet!$D$2 -> 2028
A19: OTIT | B19: =Coversheet!$D$5 -> 0 | C19: =Coversheet!$B$5 -> 0 | D19: =Coversheet!$D$6 -> 0 | E19: STF ST IT | G19: ='Other IT'!$C$24 -> 0 | N19: EBO-7 BR | O19: =Coversheet!$D$2 -> 2028
A20: OTIT | B20: =Coversheet!$D$5 -> 0 | C20: =Coversheet!$B$5 -> 0 | D20: =Coversheet!$D$6 -> 0 | E20: STF OTH IT | G20: ='Other IT'!$C$25 -> 0 | N20: EBO-7 BR | O20: =Coversheet!$D$2 -> 2028
A21: OTIT | B21: =Coversheet!$D$5 -> 0 | C21: =Coversheet!$B$5 -> 0 | D21: =Coversheet!$D$6 -> 0 | E21: STF ANCILL | G21: ='Other IT'!$C$26 -> 0 | N21: EBO-7 BR | O21: =Coversheet!$D$2 -> 2028
A22: OTIT | B22: =Coversheet!$D$5 -> 0 | C22: =Coversheet!$B$5 -> 0 | D22: =Coversheet!$D$6 -> 0 | E22: STF CONT | G22: ='Other IT'!$C$27 -> 0 | N22: EBO-7 BR | O22: =Coversheet!$D$2 -> 2028
A23: PC1 | B23: =Coversheet!$D$5 -> 0 | C23: =Coversheet!$B$5 -> 0 | D23: =Coversheet!$D$6 -> 0 | E23: PJ SMRY | F23: ='Proj 01'!$B$5 -> 0 | G23: ='Proj 01'!$D$5 -> 0 | H23: ='Proj 01'!$B$6 -> 0 | I23: ='Proj 01'!$D$6 -> 0 | J23: ='Proj 01'!$B$7 -> 0 | K23: ='Proj 01'!$D$7 -> 0 | L23: ='Proj 01'!$D$8 -> 0 | M23: ='Proj 01'!B8 -> 0 | N23: EBO-7 BR | O23: =Coversheet!$D$2 -> 2028
A24: PC1 | B24: =Coversheet!$D$5 -> 0 | C24: =Coversheet!$B$5 -> 0 | D24: =Coversheet!$D$6 -> 0 | E24: Obj 0100 | F24: ='Proj 01'!$C$12 -> 0 | G24: ='Proj 01'!$D$12 -> 0 | N24: EBO-7 BR | O24: =Coversheet!$D$2 -> 2028
A25: PC1 | B25: =Coversheet!$D$5 -> 0 | C25: =Coversheet!$B$5 -> 0 | D25: =Coversheet!$D$6 -> 0 | E25: Obj 0200 | F25: ='Proj 01'!$C$13 -> 0 | G25: ='Proj 01'!$D$13 -> 0 | N25: EBO-7 BR | O25: =Coversheet!$D$2 -> 2028
A26: PC1 | B26: =Coversheet!$D$5 -> 0 | C26: =Coversheet!$B$5 -> 0 | D26: =Coversheet!$D$6 -> 0 | E26: Obj 0300 | F26: ='Proj 01'!$C$14 -> 0 | G26: ='Proj 01'!$D$14 -> 0 | N26: EBO-7 BR | O26: =Coversheet!$D$2 -> 2028
A27: PC1 | B27: =Coversheet!$D$5 -> 0 | C27: =Coversheet!$B$5 -> 0 | D27: =Coversheet!$D$6 -> 0 | E27: Obj 0400 | F27: ='Proj 01'!$C$15 -> 0 | G27: ='Proj 01'!$D$15 -> 0 | N27: EBO-7 BR | O27: =Coversheet!$D$2 -> 2028
A28: PC1 | B28: =Coversheet!$D$5 -> 0 | C28: =Coversheet!$B$5 -> 0 | D28: =Coversheet!$D$6 -> 0 | E28: Obj 0500 | F28: ='Proj 01'!$C$16 -> 0 | G28: ='Proj 01'!$D$16 -> 0 | N28: EBO-7 BR | O28: =Coversheet!$D$2 -> 2028
A29: PC1 | B29: =Coversheet!$D$5 -> 0 | C29: =Coversheet!$B$5 -> 0 | D29: =Coversheet!$D$6 -> 0 | E29: Obj 0600 | F29: ='Proj 01'!$C$17 -> 0 | G29: ='Proj 01'!$D$17 -> 0 | N29: EBO-7 BR | O29: =Coversheet!$D$2 -> 2028
A30: PC1 | B30: =Coversheet!$D$5 -> 0 | C30: =Coversheet!$B$5 -> 0 | D30: =Coversheet!$D$6 -> 0 | E30: Obj 0700 | F30: ='Proj 01'!$C$18 -> 0 | G30: ='Proj 01'!$D$18 -> 0 | N30: EBO-7 BR | O30: =Coversheet!$D$2 -> 2028
A31: PC1 | B31: =Coversheet!$D$5 -> 0 | C31: =Coversheet!$B$5 -> 0 | D31: =Coversheet!$D$6 -> 0 | E31: Obj 0800 | F31: ='Proj 01'!$C$19 -> 0 | G31: ='Proj 01'!$D$19 -> 0 | N31: EBO-7 BR | O31: =Coversheet!$D$2 -> 2028
A32: PC1 | B32: =Coversheet!$D$5 -> 0 | C32: =Coversheet!$B$5 -> 0 | D32: =Coversheet!$D$6 -> 0 | E32: Obj 0900 | F32: ='Proj 01'!$C$20 -> 0 | G32: ='Proj 01'!$D$20 -> 0 | N32: EBO-7 BR | O32: =Coversheet!$D$2 -> 2028
A33: PC1 | B33: =Coversheet!$D$5 -> 0 | C33: =Coversheet!$B$5 -> 0 | D33: =Coversheet!$D$6 -> 0 | E33: Obj 1000 | F33: ='Proj 01'!$C$21 -> 0 | G33: ='Proj 01'!$D$21 -> 0 | N33: EBO-7 BR | O33: =Coversheet!$D$2 -> 2028
A34: PC1 | B34: =Coversheet!$D$5 -> 0 | C34: =Coversheet!$B$5 -> 0 | D34: =Coversheet!$D$6 -> 0 | E34: Obj 1100 | F34: ='Proj 01'!$C$22 -> 0 | G34: ='Proj 01'!$D$22 -> 0 | N34: EBO-7 BR | O34: =Coversheet!$D$2 -> 2028
A35: PC1 | B35: =Coversheet!$D$5 -> 0 | C35: =Coversheet!$B$5 -> 0 | D35: =Coversheet!$D$6 -> 0 | E35: Obj 1200 | F35: ='Proj 01'!$C$23 -> 0 | G35: ='Proj 01'!$D$23 -> 0 | N35: EBO-7 BR | O35: =Coversheet!$D$2 -> 2028
A36: PC1 | B36: =Coversheet!$D$5 -> 0 | C36: =Coversheet!$B$5 -> 0 | D36: =Coversheet!$D$6 -> 0 | E36: Obj 1300 | F36: ='Proj 01'!$C$24 -> 0 | G36: ='Proj 01'!$D$24 -> 0 | N36: EBO-7 BR | O36: =Coversheet!$D$2 -> 2028
A37: PC1 | B37: =Coversheet!$D$5 -> 0 | C37: =Coversheet!$B$5 -> 0 | D37: =Coversheet!$D$6 -> 0 | E37: Obj 1400 | F37: ='Proj 01'!$C$25 -> 0 | G37: ='Proj 01'!$D$25 -> 0 | N37: EBO-7 BR | O37: =Coversheet!$D$2 -> 2028
A38: PC1 | B38: =Coversheet!$D$5 -> 0 | C38: =Coversheet!$B$5 -> 0 | D38: =Coversheet!$D$6 -> 0 | E38: Obj 1500 | F38: ='Proj 01'!$C$26 -> 0 | G38: ='Proj 01'!$D$26 -> 0 | N38: EBO-7 BR | O38: =Coversheet!$D$2 -> 2028
A39: PC1 | B39: =Coversheet!$D$5 -> 0 | C39: =Coversheet!$B$5 -> 0 | D39: =Coversheet!$D$6 -> 0 | E39: Obj 1600 | F39: ='Proj 01'!$C$27 -> 0 | G39: ='Proj 01'!$D$27 -> 0 | N39: EBO-7 BR | O39: =Coversheet!$D$2 -> 2028
A40: PC1 | B40: =Coversheet!$D$5 -> 0 | C40: =Coversheet!$B$5 -> 0 | D40: =Coversheet!$D$6 -> 0 | E40: STF ST IT | F40: ='Proj 01'!$C$31 -> 0 | G40: ='Proj 01'!$D$31 -> 0 | N40: EBO-7 BR | O40: =Coversheet!$D$2 -> 2028
...
